BEGIN:VCALENDAR
VERSION:2.0
PRODID:-//Telepacs Telerradiologia - ECPv6.15.20//NONSGML v1.0//EN
CALSCALE:GREGORIAN
METHOD:PUBLISH
X-WR-CALNAME:Telepacs Telerradiologia
X-ORIGINAL-URL:https://telepacs.com.br
X-WR-CALDESC:Eventos para Telepacs Telerradiologia
REFRESH-INTERVAL;VALUE=DURATION:PT1H
X-Robots-Tag:noindex
X-PUBLISHED-TTL:PT1H
BEGIN:VTIMEZONE
TZID:America/Sao_Paulo
BEGIN:STANDARD
TZOFFSETFROM:-0300
TZOFFSETTO:-0300
TZNAME:-03
DTSTART:20240101T000000
END:STANDARD
END:VTIMEZONE
BEGIN:VEVENT
DTSTART;VALUE=DATE:20251015
DTEND;VALUE=DATE:20251017
DTSTAMP:20260421T085011
CREATED:20250717T132245Z
LAST-MODIFIED:20250717T132245Z
UID:6177-1760486400-1760659199@telepacs.com.br
SUMMARY:CONAHP 2025
DESCRIPTION:O CONAHP 2025\, Congresso Nacional de Hospitais Privados\, será realizado nos dias 15 e 16 de outubro no Transamérica Expo Center\, em São Paulo. \nA Anahp organiza este evento\, e amplamente reconhecido como um dos principais fóruns de discussão sobre o futuro da saúde hospitalar no Brasil. \nNeste ano\, o congresso adota o formato presencial e tem como tema central a ideia de transformar os desafios contemporâneos em oportunidades por meio de soluções estratégicas. \nA organização do evento estruturará a programação em cinco eixos principais: inovação\, eficiência\, gestão\, assistência e pessoas. \nCada um desses eixos abordará tópicos cruciais — como o papel da inteligência artificial na telessaúde\, os impactos das mídias sociais na prática médica\, os modelos baseados em valor e a confiabilidade hospitalar. \nTambém haverá reflexões sobre temas como saúde mental dos profissionais\, formação médica\, propósito de trabalho\, crise climática e a transformação digital na saúde. \nUm dos grandes destaques do CONAHP 2025 será o circuito “Saúde do Futuro”\, uma experiência imersiva desenvolvida pelo estúdio Perkins&Will. \nEssa instalação interativa vai simular a jornada completa do paciente — da consulta por telessaúde ao acompanhamento domiciliar. \nCom isso promovendo uma visão abrangente e integrada da assistência moderna. \nA estrutura do evento será dinâmica\, com múltiplos palcos temáticos no estilo TED Talk\, debates simultâneos e sessões interativas. \nTambém está prevista uma Sessão Pôster com curadoria da FGV\, voltada à exposição de trabalhos científicos sobre boas práticas hospitalares e soluções sustentáveis. \nO público-alvo é diverso: profissionais da saúde\, executivos de setores como tecnologia e logística\, representantes acadêmicos e governamentais\, além de empresas que desejam expor ou patrocinar iniciativas ligadas ao setor hospitalar. \nEste evento se consolidou como espaço de encontro entre inovação\, gestão\, assistência e propósito. \nPara maiores informações acesse o site
URL:https://telepacs.com.br/evento/conahp-2025/
LOCATION:TRANSAMERICA EXPO CENTER\, Av. Dr. Mário Vilas Boas Rodrigues\, 387 - Santo Amaro\, São Paulo\, São Paulo\, 04757-020\, Brasil
CATEGORIES:Hospitais,inovação e tecnologia,Principais,Radiologia,Setor de Saúde,Telerradiologia
ATTACH;FMTTYPE=image/jpeg:https://telepacs.com.br/wp-content/uploads/2025/07/CONAHP-2025-A.jpg
END:VEVENT
END:VCALENDAR