BEGIN:VCALENDAR
VERSION:2.0
PRODID:-//Telepacs Telerradiologia - ECPv6.15.20//NONSGML v1.0//EN
CALSCALE:GREGORIAN
METHOD:PUBLISH
X-WR-CALNAME:Telepacs Telerradiologia
X-ORIGINAL-URL:https://telepacs.com.br
X-WR-CALDESC:Eventos para Telepacs Telerradiologia
REFRESH-INTERVAL;VALUE=DURATION:PT1H
X-Robots-Tag:noindex
X-PUBLISHED-TTL:PT1H
BEGIN:VTIMEZONE
TZID:America/Sao_Paulo
BEGIN:STANDARD
TZOFFSETFROM:-0300
TZOFFSETTO:-0300
TZNAME:-03
DTSTART:20240101T000000
END:STANDARD
END:VTIMEZONE
BEGIN:VEVENT
DTSTART;VALUE=DATE:20250819
DTEND;VALUE=DATE:20250823
DTSTAMP:20260421T102348
CREATED:20250715T211232Z
LAST-MODIFIED:20250715T211232Z
UID:6142-1755561600-1755907199@telepacs.com.br
SUMMARY:Saúde Business Fórum 2025 - SBF
DESCRIPTION:O Saúde Business Fórum 2025 (SBF 25) será realizado de 19 a 22 de agosto\, no Tauá Resort & Convention Alexânia GO. \nO evento é  um dos encontros mais importantes do setor de saúde no Brasil. \nO SBF é focado na alta liderança da saúde\, promovendo discussões estratégicas sobre o futuro do setor. \nReunindo CEOs\, presidentes\, diretores de hospitais\, operadoras e laboratórios para promover networking estratégico\, rodadas de negócios e discussões sobre os rumos da saúde. \nA programação preliminar inclui temas como neurociência aplicada à tomada de decisão\, transformação de dados em sabedoria e inovação em vínculo. \nDiferentemente de feiras e exposições tradicionais\, o SBF foca em um formato mais intimista\, com rodadas de negócios e reuniões individuais agendadas. \nIsso permite um contato mais direto\, consultivo e produtivo entre as lideranças e as empresas que oferecem soluções inovadoras. \nO Saúde Business Fórum 2025 é um espaço para gerar conversas estratégicas\, conexões valiosas e ideias transformadoras\, com um formato mais exclusivo e intimista. \nEsse fórum é mais que um evento — é um espaço de construção de parcerias estratégicas e debate sobre os desafios reais da saúde brasileira. \n 
URL:https://telepacs.com.br/evento/saude-business-forum-2025/
LOCATION:TAUA RESORT – ALEXANIA-GO\, Rodovia BR 060\, KM 23\, ALEXANIA\, GO\, 72920-000\, Brazil
CATEGORIES:Hospitais,inovação e tecnologia,Principais,Radiologia,Setor de Saúde,Telerradiologia
ATTACH;FMTTYPE=image/jpeg:https://telepacs.com.br/wp-content/uploads/2025/07/SBF-2025-ATUAL.jpg
END:VEVENT
BEGIN:VEVENT
DTSTART;VALUE=DATE:20250821
DTEND;VALUE=DATE:20250822
DTSTAMP:20260421T102348
CREATED:20250627T144748Z
LAST-MODIFIED:20250627T144748Z
UID:6126-1755734400-1755820799@telepacs.com.br
SUMMARY:Fórum Internacional de Lideranças da Saúde - FILIS
DESCRIPTION:A 9ª edição do FILIS – Fórum Internacional de Lideranças da Saúde\, acontecerá no dia 21 de agosto de 2025\, das 8h às 18h\, no Teatro B32\, em São Paulo. \nEste evento já é referência no setor da saúde por reunir líderes\, especialistas e profissionais de diversas áreas para discutir os principais desafios e inovações do setor. \nO FILIS sempre aborda temas cruciais para o futuro da saúde\, com foco em inovação\, sustentabilidade e as tendências que moldam o setor. \nVoltado a profissionais que atuam na linha de frente da saúde\, o evento é uma oportunidade única para fortalecer o networking\, impulsionar parcerias e explorar as tendências mais relevantes do setor. \nCom o  tema central “Transformações Fundamentais para Enfrentar os Desafios da Saúde”\, o congresso propõe reflexões profundas sobre as mudanças estruturais necessárias para garantir a sustentabilidade e a evolução do sistema de saúde brasileiro. \nNesta edição\, o “Momento Transformação” apresentará cases nacionais e internacionais de inovação que já estão impactando positivamente o cuidado em saúde. \nPara mais informações\, você pode acessar o site oficial do evento \n\n  \n 
URL:https://telepacs.com.br/evento/forum-internacional-de-liderancas-da-saude-filis/
LOCATION:Teatro B32\, AVENIDA BRIGADEIRO FARIA LIMA\, 3732 ITAIM BIBI\, São Paulo\, São Paulo\, Brasil
CATEGORIES:Hospitais,inovação e tecnologia,Principais,Radiologia,Setor de Saúde,Telerradiologia
ATTACH;FMTTYPE=image/jpeg:https://telepacs.com.br/wp-content/uploads/2025/06/filis-2025-atual.jpg
ORGANIZER;CN="Abramed":MAILTO:administrativo@abramed.org.br
END:VEVENT
END:VCALENDAR